Package: imageTCGA Version: 1.0.0 Command: /Library/Frameworks/R.framework/Resources/bin/R CMD INSTALL imageTCGA StartedAt: 2025-10-13 15:30:54 -0400 (Mon, 13 Oct 2025) EndedAt: 2025-10-13 15:31:02 -0400 (Mon, 13 Oct 2025) EllapsedTime: 7.9 seconds RetCode: 0 Status: OK