Package: imageTCGA Version: 1.0.0 Command: /Library/Frameworks/R.framework/Resources/bin/R CMD build --keep-empty-dirs --no-resave-data imageTCGA StartedAt: 2025-10-14 02:33:17 -0400 (Tue, 14 Oct 2025) EndedAt: 2025-10-14 02:33:37 -0400 (Tue, 14 Oct 2025) EllapsedTime: 20.1 seconds RetCode: 0 Status: OK PackageFile: imageTCGA_1.0.0.tar.gz PackageFileSize: 2.604 MiB