Package: imageTCGA Version: 1.2.0 Maintainer: Ilaria Billato MaintainerEmail: ilaria.billato at phd.unipd.it git_url: https://git.bioconductor.org/packages/imageTCGA git_branch: RELEASE_3_22 git_last_commit: 4f8b7fe git_last_commit_date: 2025-10-29 11:36:17 -0400 (Wed, 29 Oct 2025)