Package: illuminaio Version: 0.52.0 Command: /home/biocbuild/bbs-3.22-bioc/R/bin/R CMD INSTALL illuminaio StartedAt: 2025-11-11 15:06:21 -0500 (Tue, 11 Nov 2025) EndedAt: 2025-11-11 15:06:30 -0500 (Tue, 11 Nov 2025) EllapsedTime: 8.2 seconds RetCode: 0 Status: OK