Package: illuminaio Version: 0.52.0 Command: /home/biocbuild/bbs-3.22-bioc/R/bin/R CMD build --keep-empty-dirs --no-resave-data --md5 illuminaio StartedAt: 2025-11-11 18:17:43 -0500 (Tue, 11 Nov 2025) EndedAt: 2025-11-11 18:17:55 -0500 (Tue, 11 Nov 2025) EllapsedTime: 12.0 seconds RetCode: 0 Status: OK PackageFile: illuminaio_0.52.0.tar.gz PackageFileSize: 478.9 KiB