Package: igvShiny Version: 1.6.0 Command: /home/biocbuild/bbs-3.22-bioc/R/bin/R CMD INSTALL igvShiny StartedAt: 2025-11-11 15:20:58 -0500 (Tue, 11 Nov 2025) EndedAt: 2025-11-11 15:21:09 -0500 (Tue, 11 Nov 2025) EllapsedTime: 10.4 seconds RetCode: 0 Status: OK