Package: igvShiny Version: 1.6.0 Command: /home/biocbuild/bbs-3.22-bioc/R/bin/R CMD build --keep-empty-dirs --no-resave-data --md5 igvShiny StartedAt: 2025-11-11 18:17:31 -0500 (Tue, 11 Nov 2025) EndedAt: 2025-11-11 18:17:51 -0500 (Tue, 11 Nov 2025) EllapsedTime: 20.0 seconds RetCode: 0 Status: OK PackageFile: igvShiny_1.6.0.tar.gz PackageFileSize: 4.222 MiB