Package: igvShiny Version: 1.6.0 Command: /Library/Frameworks/R.framework/Resources/bin/R CMD INSTALL igvShiny StartedAt: 2025-11-03 15:21:56 -0500 (Mon, 03 Nov 2025) EndedAt: 2025-11-03 15:22:16 -0500 (Mon, 03 Nov 2025) EllapsedTime: 19.4 seconds RetCode: 0 Status: OK