Package: igvShiny Version: 1.6.0 Command: /Library/Frameworks/R.framework/Resources/bin/R CMD build --keep-empty-dirs --no-resave-data igvShiny StartedAt: 2025-11-03 17:25:15 -0500 (Mon, 03 Nov 2025) EndedAt: 2025-11-03 17:25:40 -0500 (Mon, 03 Nov 2025) EllapsedTime: 25.0 seconds RetCode: 0 Status: OK PackageFile: igvShiny_1.6.0.tar.gz PackageFileSize: 4.22 MiB