Package: igvShiny Version: 1.6.0 Command: rm -rf igvShiny.buildbin-libdir && mkdir igvShiny.buildbin-libdir && /Users/biocbuild/BBS/utils/build-universal.sh igvShiny_1.6.0.tar.gz /Library/Frameworks/R.framework/Resources/bin/R igvShiny.buildbin-libdir StartedAt: 2025-11-04 01:45:29 -0500 (Tue, 04 Nov 2025) EndedAt: 2025-11-04 01:45:51 -0500 (Tue, 04 Nov 2025) EllapsedTime: 22.1 seconds RetCode: 0 Status: OK PackageFile: igvShiny_1.6.0.tgz PackageFileSize: 4.302 MiB