Package: igvShiny Version: 1.4.0 Command: /home/biocbuild/R/R/bin/R CMD build --keep-empty-dirs --no-resave-data igvShiny StartedAt: 2025-10-14 01:46:26 -0000 (Tue, 14 Oct 2025) EndedAt: 2025-10-14 01:46:56 -0000 (Tue, 14 Oct 2025) EllapsedTime: 30.0 seconds RetCode: 0 Status: OK PackageFile: igvShiny_1.4.0.tar.gz PackageFileSize: 4.244 MiB