Package: igvR Version: 1.30.0 Command: /home/biocbuild/bbs-3.22-bioc/R/bin/R CMD INSTALL igvR StartedAt: 2025-11-11 16:05:57 -0500 (Tue, 11 Nov 2025) EndedAt: 2025-11-11 16:06:37 -0500 (Tue, 11 Nov 2025) EllapsedTime: 39.9 seconds RetCode: 0 Status: OK