Package: igvR Version: 1.30.0 Command: /home/biocbuild/bbs-3.22-bioc/R/bin/R CMD build --keep-empty-dirs --no-resave-data --md5 igvR StartedAt: 2025-11-13 18:15:54 -0500 (Thu, 13 Nov 2025) EndedAt: 2025-11-13 18:16:43 -0500 (Thu, 13 Nov 2025) EllapsedTime: 49.0 seconds RetCode: 0 Status: OK PackageFile: igvR_1.30.0.tar.gz PackageFileSize: 8.594 MiB