Package: igblastr Version: 1.0.0 Command: /Library/Frameworks/R.framework/Resources/bin/R CMD INSTALL igblastr StartedAt: 2025-11-03 15:33:56 -0500 (Mon, 03 Nov 2025) EndedAt: 2025-11-03 15:34:17 -0500 (Mon, 03 Nov 2025) EllapsedTime: 21.0 seconds RetCode: 0 Status: OK