Package: igblastr Version: 1.0.0 Command: /Library/Frameworks/R.framework/Resources/bin/R CMD build --keep-empty-dirs --no-resave-data igblastr StartedAt: 2025-11-03 17:25:05 -0500 (Mon, 03 Nov 2025) EndedAt: 2025-11-03 17:31:36 -0500 (Mon, 03 Nov 2025) EllapsedTime: 391.4 seconds RetCode: 0 Status: OK PackageFile: igblastr_1.0.0.tar.gz PackageFileSize: 4.138 MiB