Package: igblastr Version: 1.0.0 Command: rm -rf igblastr.buildbin-libdir && mkdir igblastr.buildbin-libdir && /Users/biocbuild/BBS/utils/build-universal.sh igblastr_1.0.0.tar.gz /Library/Frameworks/R.framework/Resources/bin/R igblastr.buildbin-libdir StartedAt: 2025-11-04 01:45:25 -0500 (Tue, 04 Nov 2025) EndedAt: 2025-11-04 01:45:52 -0500 (Tue, 04 Nov 2025) EllapsedTime: 26.8 seconds RetCode: 0 Status: OK PackageFile: igblastr_1.0.0.tgz PackageFileSize: 4.486 MiB