Package: igblastr Version: 1.0.0 Command: /Library/Frameworks/R.framework/Resources/bin/R CMD build --keep-empty-dirs --no-resave-data igblastr StartedAt: 2025-11-10 16:44:39 -0500 (Mon, 10 Nov 2025) EndedAt: 2025-11-10 16:47:44 -0500 (Mon, 10 Nov 2025) EllapsedTime: 185.0 seconds RetCode: 0 Status: OK PackageFile: igblastr_1.0.0.tar.gz PackageFileSize: 4.139 MiB