Package: igblastr Version: 1.0.0 Command: rm -rf igblastr.buildbin-libdir && mkdir igblastr.buildbin-libdir && /Users/biocbuild/BBS/utils/build-universal.sh igblastr_1.0.0.tar.gz /Library/Frameworks/R.framework/Resources/bin/R igblastr.buildbin-libdir StartedAt: 2025-11-10 23:23:36 -0500 (Mon, 10 Nov 2025) EndedAt: 2025-11-10 23:23:43 -0500 (Mon, 10 Nov 2025) EllapsedTime: 7.1 seconds RetCode: 0 Status: OK PackageFile: igblastr_1.0.0.tgz PackageFileSize: 4.488 MiB