Package: idr2d Version: 1.24.0 Command: /home/biocbuild/bbs-3.22-bioc/R/bin/R CMD INSTALL idr2d StartedAt: 2025-11-11 15:35:58 -0500 (Tue, 11 Nov 2025) EndedAt: 2025-11-11 15:36:13 -0500 (Tue, 11 Nov 2025) EllapsedTime: 15.1 seconds RetCode: 0 Status: OK