Package: idr2d Version: 1.24.0 Command: /home/biocbuild/bbs-3.22-bioc/R/bin/R CMD check --install=check:idr2d.install-out.txt --library=/home/biocbuild/bbs-3.22-bioc/R/site-library --timings idr2d_1.24.0.tar.gz StartedAt: 2025-11-18 05:08:51 -0500 (Tue, 18 Nov 2025) EndedAt: 2025-11-18 05:12:15 -0500 (Tue, 18 Nov 2025) EllapsedTime: 204.3 seconds RetCode: 0 Status: OK CheckDir: idr2d.Rcheck Warnings: 0