Package: idr2d Version: 1.24.0 Command: /Library/Frameworks/R.framework/Resources/bin/R CMD INSTALL idr2d StartedAt: 2025-11-03 15:22:12 -0500 (Mon, 03 Nov 2025) EndedAt: 2025-11-03 15:22:33 -0500 (Mon, 03 Nov 2025) EllapsedTime: 21.2 seconds RetCode: 0 Status: OK