Package: idr2d Version: 1.24.0 Command: /Library/Frameworks/R.framework/Resources/bin/R CMD build --keep-empty-dirs --no-resave-data idr2d StartedAt: 2025-11-03 17:24:52 -0500 (Mon, 03 Nov 2025) EndedAt: 2025-11-03 17:25:33 -0500 (Mon, 03 Nov 2025) EllapsedTime: 41.1 seconds RetCode: 0 Status: OK PackageFile: idr2d_1.24.0.tar.gz PackageFileSize: 1.644 MiB