Package: idr2d Version: 1.22.1 Command: /home/biocbuild/R/R/bin/R CMD INSTALL idr2d StartedAt: 2025-10-13 20:46:35 -0000 (Mon, 13 Oct 2025) EndedAt: 2025-10-13 20:46:58 -0000 (Mon, 13 Oct 2025) EllapsedTime: 23.2 seconds RetCode: 0 Status: OK