Package: idr2d Version: 1.22.1 Command: /home/biocbuild/R/R/bin/R CMD build --keep-empty-dirs --no-resave-data idr2d StartedAt: 2025-10-14 01:45:34 -0000 (Tue, 14 Oct 2025) EndedAt: 2025-10-14 01:46:26 -0000 (Tue, 14 Oct 2025) EllapsedTime: 52.0 seconds RetCode: 0 Status: OK PackageFile: idr2d_1.22.1.tar.gz PackageFileSize: 1.576 MiB