Package: idpr Version: 1.20.0 Command: /home/biocbuild/bbs-3.22-bioc/R/bin/R CMD build --keep-empty-dirs --no-resave-data --md5 idpr StartedAt: 2025-11-11 18:17:01 -0500 (Tue, 11 Nov 2025) EndedAt: 2025-11-11 18:18:05 -0500 (Tue, 11 Nov 2025) EllapsedTime: 64.1 seconds RetCode: 0 Status: OK PackageFile: idpr_1.20.0.tar.gz PackageFileSize: 3.279 MiB