Package: idpr Version: 1.20.0 Command: /Library/Frameworks/R.framework/Resources/bin/R CMD INSTALL idpr StartedAt: 2025-11-10 15:08:53 -0500 (Mon, 10 Nov 2025) EndedAt: 2025-11-10 15:08:55 -0500 (Mon, 10 Nov 2025) EllapsedTime: 2.6 seconds RetCode: 0 Status: OK