Package: idiogram Version: 1.84.0 Command: /home/biocbuild/bbs-3.21-bioc/R/bin/R CMD INSTALL idiogram StartedAt: 2025-10-15 15:28:30 -0400 (Wed, 15 Oct 2025) EndedAt: 2025-10-15 15:28:46 -0400 (Wed, 15 Oct 2025) EllapsedTime: 16.3 seconds RetCode: 0 Status: OK