Package: idiogram Version: 1.84.0 Command: /home/biocbuild/bbs-3.21-bioc/R/bin/R CMD build --keep-empty-dirs --no-resave-data idiogram StartedAt: 2025-10-15 18:03:01 -0400 (Wed, 15 Oct 2025) EndedAt: 2025-10-15 18:03:24 -0400 (Wed, 15 Oct 2025) EllapsedTime: 23.0 seconds RetCode: 0 Status: OK PackageFile: idiogram_1.84.0.tar.gz PackageFileSize: 1.795 MiB