Package: idiogram Version: 1.84.0 Command: /home/biocbuild/R/R/bin/R CMD build --keep-empty-dirs --no-resave-data idiogram StartedAt: 2025-10-03 01:48:53 -0000 (Fri, 03 Oct 2025) EndedAt: 2025-10-03 01:49:25 -0000 (Fri, 03 Oct 2025) EllapsedTime: 32.0 seconds RetCode: 0 Status: OK PackageFile: idiogram_1.84.0.tar.gz PackageFileSize: 1.792 MiB