Package: idiogram Version: 1.84.0 Command: /Library/Frameworks/R.framework/Resources/bin/R CMD build --keep-empty-dirs --no-resave-data idiogram StartedAt: 2025-10-14 02:29:32 -0400 (Tue, 14 Oct 2025) EndedAt: 2025-10-14 02:30:04 -0400 (Tue, 14 Oct 2025) EllapsedTime: 31.9 seconds RetCode: 0 Status: OK PackageFile: idiogram_1.84.0.tar.gz PackageFileSize: 1.795 MiB