Package: idiogram Version: 1.84.0 Command: rm -rf idiogram.buildbin-libdir && mkdir idiogram.buildbin-libdir && /Users/biocbuild/BBS/utils/build-universal.sh idiogram_1.84.0.tar.gz /Library/Frameworks/R.framework/Resources/bin/R idiogram.buildbin-libdir StartedAt: 2025-10-15 18:54:35 -0400 (Wed, 15 Oct 2025) EndedAt: 2025-10-15 18:54:56 -0400 (Wed, 15 Oct 2025) EllapsedTime: 21.5 seconds RetCode: 0 Status: OK PackageFile: idiogram_1.84.0.tgz PackageFileSize: 3.722 MiB