Package: idiogram Version: 1.86.0 Maintainer: Karl J. Dykema MaintainerEmail: karl.dykema at vai.org git_url: https://git.bioconductor.org/packages/idiogram git_branch: RELEASE_3_22 git_last_commit: 6bd2a2e git_last_commit_date: 2025-10-29 09:56:25 -0400 (Wed, 29 Oct 2025)