Package: ideal Version: 2.4.0 Command: /home/biocbuild/bbs-3.22-bioc/R/bin/R CMD INSTALL ideal StartedAt: 2025-11-11 15:53:57 -0500 (Tue, 11 Nov 2025) EndedAt: 2025-11-11 15:54:57 -0500 (Tue, 11 Nov 2025) EllapsedTime: 60.4 seconds RetCode: 0 Status: OK