Package: ideal Version: 2.4.0 Command: /home/biocbuild/bbs-3.22-bioc/R/bin/R CMD check --install=check:ideal.install-out.txt --library=/home/biocbuild/bbs-3.22-bioc/R/site-library --timings ideal_2.4.0.tar.gz StartedAt: 2025-11-14 00:43:24 -0500 (Fri, 14 Nov 2025) EndedAt: 2025-11-14 00:52:34 -0500 (Fri, 14 Nov 2025) EllapsedTime: 549.8 seconds RetCode: 0 Status: OK CheckDir: ideal.Rcheck Warnings: 0