Package: ideal Version: 2.4.0 Command: /home/biocbuild/bbs-3.22-bioc/R/bin/R CMD build --keep-empty-dirs --no-resave-data --md5 ideal StartedAt: 2025-11-11 18:16:54 -0500 (Tue, 11 Nov 2025) EndedAt: 2025-11-11 18:19:57 -0500 (Tue, 11 Nov 2025) EllapsedTime: 183.2 seconds RetCode: 0 Status: OK PackageFile: ideal_2.4.0.tar.gz PackageFileSize: 5.667 MiB