Package: ideal Version: 2.2.0 Command: rm -rf ideal.buildbin-libdir && mkdir ideal.buildbin-libdir && /Users/biocbuild/BBS/utils/build-universal.sh ideal_2.2.0.tar.gz /Library/Frameworks/R.framework/Resources/bin/R ideal.buildbin-libdir StartedAt: 2025-04-22 00:50:28 -0400 (Tue, 22 Apr 2025) EndedAt: 2025-04-22 00:51:48 -0400 (Tue, 22 Apr 2025) EllapsedTime: 80.5 seconds RetCode: 0 Status: OK PackageFile: ideal_2.2.0.tgz PackageFileSize: 5.537 MiB