Package: ideal Version: 2.2.0 Command: /home/biocbuild/R/R/bin/R CMD INSTALL ideal StartedAt: 2025-09-25 21:10:55 -0000 (Thu, 25 Sep 2025) EndedAt: 2025-09-25 21:12:14 -0000 (Thu, 25 Sep 2025) EllapsedTime: 78.3 seconds RetCode: 0 Status: OK