Package: ideal Version: 2.2.0 Command: /home/biocbuild/R/R/bin/R CMD build --keep-empty-dirs --no-resave-data ideal StartedAt: 2025-09-30 02:24:59 -0000 (Tue, 30 Sep 2025) EndedAt: 2025-09-30 02:28:41 -0000 (Tue, 30 Sep 2025) EllapsedTime: 222.1 seconds RetCode: 0 Status: OK PackageFile: ideal_2.2.0.tar.gz PackageFileSize: 5.773 MiB