Package: ideal Version: 2.2.0 Command: /Library/Frameworks/R.framework/Resources/bin/R CMD build --keep-empty-dirs --no-resave-data ideal StartedAt: 2025-10-14 02:29:10 -0400 (Tue, 14 Oct 2025) EndedAt: 2025-10-14 02:32:24 -0400 (Tue, 14 Oct 2025) EllapsedTime: 193.3 seconds RetCode: 0 Status: OK PackageFile: ideal_2.2.0.tar.gz PackageFileSize: 5.76 MiB