Package: ideal Version: 2.2.0 Command: rm -rf ideal.buildbin-libdir && mkdir ideal.buildbin-libdir && /Users/biocbuild/BBS/utils/build-universal.sh ideal_2.2.0.tar.gz /Library/Frameworks/R.framework/Resources/bin/R ideal.buildbin-libdir StartedAt: 2025-10-15 18:53:56 -0400 (Wed, 15 Oct 2025) EndedAt: 2025-10-15 18:55:12 -0400 (Wed, 15 Oct 2025) EllapsedTime: 76.4 seconds RetCode: 0 Status: OK PackageFile: ideal_2.2.0.tgz PackageFileSize: 5.549 MiB