Package: icetea Version: 1.28.0 Command: /home/biocbuild/bbs-3.22-bioc/R/bin/R CMD INSTALL icetea StartedAt: 2025-11-02 16:06:56 -0500 (Sun, 02 Nov 2025) EndedAt: 2025-11-02 16:07:54 -0500 (Sun, 02 Nov 2025) EllapsedTime: 57.5 seconds RetCode: 0 Status: OK