Package: icetea Version: 1.28.0 Command: /home/biocbuild/bbs-3.22-bioc/R/bin/R CMD build --keep-empty-dirs --no-resave-data --md5 icetea StartedAt: 2025-10-31 18:20:19 -0400 (Fri, 31 Oct 2025) EndedAt: 2025-10-31 18:22:01 -0400 (Fri, 31 Oct 2025) EllapsedTime: 102.1 seconds RetCode: 0 Status: OK PackageFile: icetea_1.28.0.tar.gz PackageFileSize: 790.4 KiB