Package: ibh Version: 1.58.0 Command: /home/biocbuild/bbs-3.22-bioc/R/bin/R CMD check --install=check:ibh.install-out.txt --library=/home/biocbuild/bbs-3.22-bioc/R/site-library --timings ibh_1.58.0.tar.gz StartedAt: 2025-11-12 00:37:33 -0500 (Wed, 12 Nov 2025) EndedAt: 2025-11-12 00:37:53 -0500 (Wed, 12 Nov 2025) EllapsedTime: 20.0 seconds RetCode: 0 Status: OK CheckDir: ibh.Rcheck Warnings: 0