Package: ibh Version: 1.58.0 Command: /home/biocbuild/bbs-3.22-bioc/R/bin/R CMD build --keep-empty-dirs --no-resave-data --md5 ibh StartedAt: 2025-11-11 18:16:07 -0500 (Tue, 11 Nov 2025) EndedAt: 2025-11-11 18:16:13 -0500 (Tue, 11 Nov 2025) EllapsedTime: 6.0 seconds RetCode: 0 Status: OK PackageFile: ibh_1.58.0.tar.gz PackageFileSize: 128.2 KiB