Package: ibh Version: 1.56.0 Command: rm -rf ibh.buildbin-libdir && mkdir ibh.buildbin-libdir && /Users/biocbuild/BBS/utils/build-universal.sh ibh_1.56.0.tar.gz /Library/Frameworks/R.framework/Resources/bin/R ibh.buildbin-libdir StartedAt: 2025-10-15 18:53:33 -0400 (Wed, 15 Oct 2025) EndedAt: 2025-10-15 18:53:37 -0400 (Wed, 15 Oct 2025) EllapsedTime: 3.4 seconds RetCode: 0 Status: OK PackageFile: ibh_1.56.0.tgz PackageFileSize: 156.9 KiB