Package: ibh Version: 1.58.0 Maintainer: Kircicegi Korkmaz MaintainerEmail: e102771 at ceng.metu.edu.tr git_url: https://git.bioconductor.org/packages/ibh git_branch: RELEASE_3_22 git_last_commit: 224881d git_last_commit_date: 2025-10-29 10:07:00 -0400 (Wed, 29 Oct 2025)