Package: iSeq Version: 1.60.0 Command: /home/biocbuild/bbs-3.21-bioc/R/bin/R CMD INSTALL iSeq StartedAt: 2025-10-08 15:03:38 -0400 (Wed, 08 Oct 2025) EndedAt: 2025-10-08 15:04:04 -0400 (Wed, 08 Oct 2025) EllapsedTime: 26.0 seconds RetCode: 0 Status: OK