Package: iSeq Version: 1.60.0 Command: /home/biocbuild/bbs-3.21-bioc/R/bin/R CMD build --keep-empty-dirs --no-resave-data iSeq StartedAt: 2025-10-08 18:09:37 -0400 (Wed, 08 Oct 2025) EndedAt: 2025-10-08 18:09:55 -0400 (Wed, 08 Oct 2025) EllapsedTime: 18.0 seconds RetCode: 0 Status: OK PackageFile: iSeq_1.60.0.tar.gz PackageFileSize: 1.326 MiB