Package: iSeq Version: 1.60.0 Command: /Library/Frameworks/R.framework/Resources/bin/R CMD INSTALL iSeq StartedAt: 2025-10-09 15:10:09 -0400 (Thu, 09 Oct 2025) EndedAt: 2025-10-09 15:10:14 -0400 (Thu, 09 Oct 2025) EllapsedTime: 4.6 seconds RetCode: 0 Status: OK