Package: iSEEu Version: 1.22.0 Command: /home/biocbuild/bbs-3.22-bioc/R/bin/R CMD INSTALL iSEEu StartedAt: 2025-11-11 15:29:07 -0500 (Tue, 11 Nov 2025) EndedAt: 2025-11-11 15:29:42 -0500 (Tue, 11 Nov 2025) EllapsedTime: 34.6 seconds RetCode: 0 Status: OK